BEGIN:VCALENDAR
VERSION:2.0
PRODID:-//Mva Shanghai - ECPv5.10.1//NONSGML v1.0//EN
CALSCALE:GREGORIAN
METHOD:PUBLISH
X-WR-CALNAME:Mva Shanghai
X-ORIGINAL-URL:http://www.mvashanghai.org
X-WR-CALDESC:Events for Mva Shanghai
BEGIN:VTIMEZONE
TZID:Asia/Shanghai
BEGIN:STANDARD
TZOFFSETFROM:+0800
TZOFFSETTO:+0800
TZNAME:CST
DTSTART:20190101T000000
END:STANDARD
END:VTIMEZONE
BEGIN:VEVENT
DTSTART;VALUE=DATE:20190922
DTEND;VALUE=DATE:20190923
DTSTAMP:20260421T022219
CREATED:20210111T062534Z
LAST-MODIFIED:20210111T062534Z
UID:2579-1569110400-1569196799@www.mvashanghai.org
SUMMARY:中秋佳节，你我同庆
DESCRIPTION:2019年9月22日，蒙特沃德的学生们共同在学校庆祝了中秋佳节，并举办了猜谜语、吃月饼的活动。学生们共分成七支队伍参与猜谜游戏，其中两支队伍取得了优胜并获得奖励。通过本次活动，学生们学习了中秋节的传统习俗。学生们相信，尽管他们将来可能前往国外学习，但国家独特的传统文化绝对不能被遗忘。作为青年人，学生们有责任、也有义务去继承传统文化。
URL:http://www.mvashanghai.org/index.php/event/%e4%b8%ad%e7%a7%8b%e4%bd%b3%e8%8a%82%ef%bc%8c%e4%bd%a0%e6%88%91%e5%90%8c%e5%ba%86/
LOCATION:上海蒙特沃德
CATEGORIES:学生活动
ATTACH;FMTTYPE=image/jpeg:http://www.mvashanghai.org/wp-content/uploads/2021/01/中秋节活动照片.jpeg
END:VEVENT
END:VCALENDAR