BEGIN:VCALENDAR
VERSION:2.0
PRODID:-//Mva Shanghai - ECPv5.10.1//NONSGML v1.0//EN
CALSCALE:GREGORIAN
METHOD:PUBLISH
X-WR-CALNAME:Mva Shanghai
X-ORIGINAL-URL:http://www.mvashanghai.org
X-WR-CALDESC:Events for Mva Shanghai
BEGIN:VTIMEZONE
TZID:Asia/Shanghai
BEGIN:STANDARD
TZOFFSETFROM:+0800
TZOFFSETTO:+0800
TZNAME:CST
DTSTART:20170101T000000
END:STANDARD
END:VTIMEZONE
BEGIN:VEVENT
DTSTART;TZID=Asia/Shanghai:20201221T173000
DTEND;TZID=Asia/Shanghai:20201221T220000
DTSTAMP:20260421T040443
CREATED:20210111T065457Z
LAST-MODIFIED:20210111T080829Z
UID:2594-1608571800-1608588000@www.mvashanghai.org
SUMMARY:圣诞节Ball Dance Party 2020
DESCRIPTION:2020年12月21日晚，蒙特沃德的学生们在学校举办了圣诞节舞会排队。自2014年起，上海蒙特沃德就开始了庆祝圣诞节的传统。从以往的Christmas Week到今年的Dance Party，蒙特沃德的圣诞节庆祝方式也变得越来越多姿多彩。本次圣诞节活动是一次完全由学生群体组织、排练和策划的晚会活动。同学们在给大家带来精彩纷呈的演出节目的同时，也锻炼了自己的综合能力。蒙特沃德的每一位同学都是唱跳俱佳、多才多艺的小能手。从对于潮流歌曲的精彩演绎，到乐手们对经典歌曲的强势改编；从温柔抒情的细腻嗓音，到精彩绝伦的自行车秀……每一个节目都倾注了同学们的心血，也使他们在这个夜晚闪光熠熠。另一边，老师们也没闲着，带同学们领略了大上海的歌声和热情的桑巴舞。这次活动完全是学生自己组织的，没有任何老师进行指导，非常锻炼学生们的自主性、管理能力和团队合作能力。同时，这次活动正好赶上了申请季，所以同学们排练时间较短，节目效果可能没有特别理想。但是每位同学都是挤出来自己时间来排练，这期间也培养了他们的时间管理和统筹安排的能力。
URL:http://www.mvashanghai.org/index.php/event/%e5%9c%a3%e8%af%9e%e8%8a%82ball-dance-party-2020/
LOCATION:上海蒙特沃德
CATEGORIES:学生活动
ATTACH;FMTTYPE=image/jpeg:http://www.mvashanghai.org/wp-content/uploads/2021/01/圣诞节活动照片3-scaled.jpeg
END:VEVENT
BEGIN:VEVENT
DTSTART;TZID=Asia/Shanghai:20191222T080000
DTEND;TZID=Asia/Shanghai:20191222T170000
DTSTAMP:20260421T040443
CREATED:20210111T063317Z
LAST-MODIFIED:20210111T075611Z
UID:2582-1577001600-1577034000@www.mvashanghai.org
SUMMARY:除了学习，我们还会改编音乐剧
DESCRIPTION:2019年12月22日，蒙特沃德的学生突发奇想，在老师Veronica的启发下，决定创造一个魔改版的《冰雪奇缘》。由于准备阶段坎坷且时间有限，学生们不得不删减部分角色与内容，并花了很长时间将改编剧情合理化。为了喜剧效果，同学们决定尝试性别转变，让男生们来扮演美丽的公主，让女生们来扮演帅气的王子。《Let It Go》是原作中最出名的一首歌，也是本剧的高潮。表演者Daniel同学表演当天情绪饱满，同时也拉满了剧目的幽默效果。学生老A作为剧目的总策划，不仅第一次尝试了女装，更是第一次尝试了音乐剧改编。改编与彩排的这两周的体验对他来说如梦一般，因为已经好久没有这种肆意挥洒青春的感觉了。在这次活动中，学生们充分地发挥了自己的创造能力与表演能力，也体验了许多不一样的新奇体验。
URL:http://www.mvashanghai.org/index.php/event/%e9%99%a4%e4%ba%86%e5%ad%a6%e4%b9%a0%ef%bc%8c%e6%88%91%e4%bb%ac%e8%bf%98%e4%bc%9a%e6%94%b9%e7%bc%96%e9%9f%b3%e4%b9%90%e5%89%a7/
LOCATION:上海蒙特沃德
CATEGORIES:学生活动
ATTACH;FMTTYPE=image/jpeg:http://www.mvashanghai.org/wp-content/uploads/2021/01/音乐剧活动照片.jpg
END:VEVENT
BEGIN:VEVENT
DTSTART;VALUE=DATE:20190922
DTEND;VALUE=DATE:20190923
DTSTAMP:20260421T040443
CREATED:20210111T062534Z
LAST-MODIFIED:20210111T062534Z
UID:2579-1569110400-1569196799@www.mvashanghai.org
SUMMARY:中秋佳节，你我同庆
DESCRIPTION:2019年9月22日，蒙特沃德的学生们共同在学校庆祝了中秋佳节，并举办了猜谜语、吃月饼的活动。学生们共分成七支队伍参与猜谜游戏，其中两支队伍取得了优胜并获得奖励。通过本次活动，学生们学习了中秋节的传统习俗。学生们相信，尽管他们将来可能前往国外学习，但国家独特的传统文化绝对不能被遗忘。作为青年人，学生们有责任、也有义务去继承传统文化。
URL:http://www.mvashanghai.org/index.php/event/%e4%b8%ad%e7%a7%8b%e4%bd%b3%e8%8a%82%ef%bc%8c%e4%bd%a0%e6%88%91%e5%90%8c%e5%ba%86/
LOCATION:上海蒙特沃德
CATEGORIES:学生活动
ATTACH;FMTTYPE=image/jpeg:http://www.mvashanghai.org/wp-content/uploads/2021/01/中秋节活动照片.jpeg
END:VEVENT
BEGIN:VEVENT
DTSTART;VALUE=DATE:20181031
DTEND;VALUE=DATE:20181101
DTSTAMP:20260421T040443
CREATED:20210111T062234Z
LAST-MODIFIED:20210111T062234Z
UID:2573-1540944000-1541030399@www.mvashanghai.org
SUMMARY:万圣节里的神秘歌声
DESCRIPTION:2018年10月31日下午，蒙特沃德的学生们举办了自己的万圣节派对。不同于以往的派对，这次万圣节派对中有个重要环节，就是歌唱比赛。这场不限语种、不限表现方式、不限伴奏模式的比赛从一周前便开始了选拔。本次比赛共有十名学生参赛，比赛形式从两两对决到互选PK，可谓是给参赛者们带来了不小的乐趣。参赛者们为大家带来了《City of Stars》、《说散就散》、《月半小夜曲》等经典曲目，也为各位老师和同学带来了一场视觉盛宴。\n此外，学生们也为本次万圣节做了精致的装扮，有些同学变装成吸血鬼，有些同学则变装成《千与千寻》中的“无脸男”。学生们在派对中展示自我、放飞自我、与自己的伙伴玩得不亦乐乎…… 万圣节活动使学生们的日常生活更加丰富，也为学生们繁忙的学术课业里增添了一份乐趣。
URL:http://www.mvashanghai.org/index.php/event/%e4%b8%87%e5%9c%a3%e8%8a%82%e9%87%8c%e7%9a%84%e7%a5%9e%e7%a7%98%e6%ad%8c%e5%a3%b0/
LOCATION:上海蒙特沃德
CATEGORIES:学生活动
ATTACH;FMTTYPE=image/jpeg:http://www.mvashanghai.org/wp-content/uploads/2021/01/万圣节活动照2.jpg
END:VEVENT
BEGIN:VEVENT
DTSTART;VALUE=DATE:20170318
DTEND;VALUE=DATE:20170320
DTSTAMP:20260421T040443
CREATED:20210111T055441Z
LAST-MODIFIED:20210111T060525Z
UID:2558-1489795200-1489967999@www.mvashanghai.org
SUMMARY:第32、33届上海市青少年科技创新大赛
DESCRIPTION:热烈祝贺张天羽、张苑荣获第32届上海市青少年科技创新大赛一等奖\n\n2017年3月18日，主题为“创新·体验·成长”的第32届上海市青少年科技创新大赛在上海科学会堂开幕。上海市科协党组书记、副主席杨建荣、上海市教委副主任王平、共青团上海市委副书记刘刚、上海市科协副主席王智勇、中国福利会副秘书长潘燕、上海科技馆副馆长姚强、上海科普教育发展基金会副理事长金建敏等领导参与了开幕式，并前往展区参观，与参赛师生进行了互动交流。大赛吸引了全市16个区约30万师生积极参与，共有486所学校的参赛选手提交了5753份申报材料。竞赛板块收到青少年科技创新成果4438项、青少年科技创意1079项、科技辅导员科教创新成果51项；展示板块收到青少年科技实践活动16项、少年儿童科学幻想绘画153幅、优秀组织单位15家，较去年相比申报人数增加40%，为历届最高。\n\n\n\n\n蒙特沃德学生张天羽和张苑以自己的留守儿童的教育课题和环境科学与工程课题获得了大赛一等奖。\n\n\n\n\n\n热烈祝贺鲁晓晗和杨济昀两位同学荣获科创竞赛终评一等奖\n\n2018年8月16日上午，第33届全国青少年科技创新大赛在重庆国际博览中心拉开帷幕。来自全国31个省、自治区、直辖市，新疆生产建设兵团和香港、澳门、台湾地区的35个代表队约500名青少年和200名科技辅导员以及来自亚洲、欧洲、大洋洲、北美洲、南美洲、非洲等50多个国家和地区的300多名国际代表，各地观摩大赛的科技教育工作者共2200余人参加了开幕式。全国政协副主席、中国科协主席万钢，重庆市委副书记、市长唐良智分别在开幕式上讲话和致欢迎辞。教育部党组成员、副部长朱之文，科技部党组成员夏鸣九，生态环境部副部长黄润秋，知识产权局党组成员、副局长廖涛，共青团中央书记处书记徐晓，重庆市副市长李殿勋等主办、承办和协办单位领导，本届大赛评委会主任、中国科学院院士王乃彦，评委会监督委员会主任、中国科学院院士黎乐民，大赛评委会副主任、中国科学院院士吴岳良，中国工程院院士、中国青少年科技辅导员协会理事长陈赛娟，中国新一代人工智能发展战略研究院执行院长、世界工程组织联合会候任主席龚克，北京大学博雅讲座教授、2017未来科学大奖获得者许晨阳等专家学者，经济合作组织科学基金会等国际组织，以及来自美国、芬兰、意大利、卢森堡、突尼斯等国家有关科技教育机构嘉宾出席开幕式。 万钢在讲话中指出，全国青少年科技创新大赛为科技后备人才培养提供了坚实支撑，为各国青少年体验科学之美、创新之妙搭建起广阔舞台。当前，世界正处在新一轮科技革命和产业变革的历史交汇点，全球面临百年未有之大变局。发展科技事业，是人类应对全球性挑战、实现可持续发展的战略选择。科技创新的未来在青少年，人类命运共同体建设的希望在青少年。他希望，科技创新大赛要拓展开放创新的大格局，努力开阔孩子们的科学视野；要播撒希望的种子，充分激发孩子们的好奇心和想象力；要引导孩子们敢于有梦、勇于追梦、勤于圆梦。\n蒙特沃德学生鲁晓晗和杨济昀同时荣获第33届上海市青少年科技创新大赛终评一等奖。此外，鲁晓晗同学还额外获得了大学专项奖–华东理工大学“华理明德奖”，荣获奖金一万元，为学校争得了特殊的荣誉。\n作为一所project based learning（项目管理型） 学校，蒙特沃德拥有强大的专家辅导团队。感谢这些顶尖教授的精心辅导，使学生们最终学识、荣誉双收获。
URL:http://www.mvashanghai.org/index.php/event/%e7%ac%ac32%e5%b1%8a%e4%b8%8a%e6%b5%b7%e5%b8%82%e9%9d%92%e5%b0%91%e5%b9%b4%e7%a7%91%e6%8a%80%e5%88%9b%e6%96%b0%e5%a4%a7%e8%b5%9b/
LOCATION:上海科学会堂\, 上海\, 中国
CATEGORIES:学生活动,校外活动
ATTACH;FMTTYPE=image/jpeg:http://www.mvashanghai.org/wp-content/uploads/2021/01/32届照片1.jpg
END:VEVENT
END:VCALENDAR